BEGIN:VCALENDAR
VERSION:2.0
PRODID:-//Schloss Ober Neundorf - ECPv6.15.20//NONSGML v1.0//EN
CALSCALE:GREGORIAN
METHOD:PUBLISH
X-WR-CALNAME:Schloss Ober Neundorf
X-ORIGINAL-URL:https://schloss-ober-neundorf.de
X-WR-CALDESC:Veranstaltungen für Schloss Ober Neundorf
REFRESH-INTERVAL;VALUE=DURATION:PT1H
X-Robots-Tag:noindex
X-PUBLISHED-TTL:PT1H
BEGIN:VTIMEZONE
TZID:UTC
BEGIN:STANDARD
TZOFFSETFROM:+0000
TZOFFSETTO:+0000
TZNAME:UTC
DTSTART:20250101T000000
END:STANDARD
END:VTIMEZONE
BEGIN:VEVENT
DTSTART;TZID=UTC:20260424T190000
DTEND;TZID=UTC:20260424T220000
DTSTAMP:20260423T151746
CREATED:20260318T192828Z
LAST-MODIFIED:20260421T093645Z
UID:4336-1777057200-1777068000@schloss-ober-neundorf.de
SUMMARY:Harfenkonzert mit Constance Mattheus
DESCRIPTION:Am 24. und 25. April 2026 lädt Schloss Oberneundorf zu einem besonderen Konzerthighlight mit der internationalen Harfenistin und Sängerin Constance Mattheus ein. Die vielfach ausgezeichnete Künstlerin verbindet in ihren Konzerten Harfe\, Klavier und eine außergewöhnliche Stimme\, mit der sie in über 30 Sprachen singt. Ihr Programm „Mit der Harfe um die Welt“ nimmt das Publikum mit auf eine klangvolle Reise durch verschiedene Kulturen – von Jazzclubs in New York über argentinischen Tango und brasilianischen Bossa Nova bis hin zu französischem Chanson\, Klassik und Weltmusik. Mit charismatischer Bühnenpräsenz\, viel Humor und berührenden Geschichten entsteht ein Abend voller Atmosphäre\, der Musik und Erzählkunst miteinander verbindet. \nBegleitet wird das Konzert von der eindrucksvollen Konzertharfe aus kostbarem Vogelaugenahorn\, deren warmes Klangspektrum die Gäste in einen besonderen Klangraum eintauchen lässt. Presse und Publikum beschreiben ihre Konzerte als „magische Abende“ und „Seelenmassage“.\n\n„Ein Abend voller Magie und einer Stimme zum Niederknien. Hingehen!“ – Harburger Blatt\n„Wie in einen Klangkokon zärtlich eingehüllt\, wie mit einer Seelenmassage beschenkt.“ – Thüringer Zeitung \n„Constance Mattheus zieht ihr Publikum als begnadete Geschichtenerzählerin in ihren Bann – verdiente Standing Ovations.“ – Sächsische Zeitung \nAm darauffolgenden Tag\, dem 25. April\, findet der intensive Gesangsworkshop „The Voice in Your Soul“ statt.\nDetails zum Workshop finden Sie hier. \nFreuen Sie sich auf zwei inspirierende Tage voller Musik\, Begegnung und klanglicher Entdeckungen im besonderen Ambiente von Schloss Oberneundorf. \nFreitag\, 24. April 2026 um 19 Uhr: Konzert „Mit der Harfe um die Welt“ \nEintritt: 25 Euro \nEs besteht die Möglichkeit\, vor dem Konzert noch etwas im Schloss zu speisen. \nSamstag\, 25. April 2026 von 10 bis 18 Uhr: Gesangsworkshop „The Voice in Your Soul“ \nTeilnahmegebühr: 125 Euro \nKombiticket für beide Tage: 130 Euro
URL:https://schloss-ober-neundorf.de/veranstaltung/harfenkonzert-mit-constance-mattheus/
CATEGORIES:Konzert
ATTACH;FMTTYPE=image/jpeg:https://schloss-ober-neundorf.de/wp-content/uploads/2026/03/2026-04-24_Harfenkonzert.jpg
END:VEVENT
END:VCALENDAR