BEGIN:VCALENDAR
VERSION:2.0
PRODID:-//Schloss Ober Neundorf - ECPv6.15.20//NONSGML v1.0//EN
CALSCALE:GREGORIAN
METHOD:PUBLISH
X-WR-CALNAME:Schloss Ober Neundorf
X-ORIGINAL-URL:https://schloss-ober-neundorf.de
X-WR-CALDESC:Veranstaltungen für Schloss Ober Neundorf
REFRESH-INTERVAL;VALUE=DURATION:PT1H
X-Robots-Tag:noindex
X-PUBLISHED-TTL:PT1H
BEGIN:VTIMEZONE
TZID:UTC
BEGIN:STANDARD
TZOFFSETFROM:+0000
TZOFFSETTO:+0000
TZNAME:UTC
DTSTART:20250101T000000
END:STANDARD
END:VTIMEZONE
BEGIN:VEVENT
DTSTART;TZID=UTC:20260608T180000
DTEND;TZID=UTC:20260608T210000
DTSTAMP:20260423T102604
CREATED:20260407T194533Z
LAST-MODIFIED:20260407T194659Z
UID:4367-1780941600-1780952400@schloss-ober-neundorf.de
SUMMARY:Unternehmer-Treffen "Der perfekte Mitarbeiter..."
DESCRIPTION:Der perfekte Mitarbeiter findet sich einfach nicht – und eine offene Stelle kostet Zeit\, Energie und Nerven.“ \nAls Vorsitzende des Vereins „Institut Neustart“ haben wir Alexandra Matheis zu Gast. \nGemeinsam möchten wir einen entspannten Unternehmer-Dialog führen und uns dazu austauschen. \nUns fällt dazu ein: \no Was braucht mein Unternehmen wirklich\, um alle Stellen zu besetzen? \no Welche Mitarbeiter wünsche ich mir – und warum? \no Wo hakt es bei der Suche am meisten? \no Erfahrungen \no Ideen \no Geschichten \n… und das gemeinsame entstehen lassen von Lösungen. \n  \nWir freuen uns auf viele Unternehmer von Fern und Nah! \n\nEintritt frei – Wertschätzung erwünscht! \n\nVoranmeldung bitte an:\nveranstaltungen@schloss-oberneundorf.de
URL:https://schloss-ober-neundorf.de/veranstaltung/unternehmer-treffen/
ATTACH;FMTTYPE=image/jpeg:https://schloss-ober-neundorf.de/wp-content/uploads/2026/04/2026-06-08_Unternehmertreffen.jpg
END:VEVENT
END:VCALENDAR